BEGIN:VCALENDAR
VERSION:2.0
PRODID:-//Nerva.coach - ECPv6.15.18//NONSGML v1.0//EN
CALSCALE:GREGORIAN
METHOD:PUBLISH
X-WR-CALNAME:Nerva.coach
X-ORIGINAL-URL:https://nerva.coach
X-WR-CALDESC:Evenementen voor Nerva.coach
REFRESH-INTERVAL;VALUE=DURATION:PT1H
X-Robots-Tag:noindex
X-PUBLISHED-TTL:PT1H
BEGIN:VTIMEZONE
TZID:Europe/Brussels
BEGIN:DAYLIGHT
TZOFFSETFROM:+0100
TZOFFSETTO:+0200
TZNAME:CEST
DTSTART:20250330T010000
END:DAYLIGHT
BEGIN:STANDARD
TZOFFSETFROM:+0200
TZOFFSETTO:+0100
TZNAME:CET
DTSTART:20251026T010000
END:STANDARD
BEGIN:DAYLIGHT
TZOFFSETFROM:+0100
TZOFFSETTO:+0200
TZNAME:CEST
DTSTART:20260329T010000
END:DAYLIGHT
BEGIN:STANDARD
TZOFFSETFROM:+0200
TZOFFSETTO:+0100
TZNAME:CET
DTSTART:20261025T010000
END:STANDARD
BEGIN:DAYLIGHT
TZOFFSETFROM:+0100
TZOFFSETTO:+0200
TZNAME:CEST
DTSTART:20270328T010000
END:DAYLIGHT
BEGIN:STANDARD
TZOFFSETFROM:+0200
TZOFFSETTO:+0100
TZNAME:CET
DTSTART:20271031T010000
END:STANDARD
END:VTIMEZONE
BEGIN:VEVENT
DTSTART;TZID=Europe/Brussels:20260314T093000
DTEND;TZID=Europe/Brussels:20260315T163000
DTSTAMP:20260419T213024
CREATED:20251018T120002Z
LAST-MODIFIED:20251021T084747Z
UID:10000063-1773480600-1773592200@nerva.coach
SUMMARY:4 Daagse opleiding Hartcoherentie coach (voorjaar 2026): locatie Willebroek
DESCRIPTION:Details programma & boekingen\n\n\n\n\nData van de opleiding:\n\n\n\n\n14 Mrt & 15 Mrt  2026\n\n\n\n28 Mrt\n\n\n\n30 April\n\n\n\n\nDoelgroep\n\n\n\nParamedici\, medici\, gezondheidswerkers\, therapeuten\, psychologen\, psychotherapeuten\, coaches\, leidinggevenden\, HRM-managers\, docenten en leerkrachten. Indien uw profiel niet voorkomt in deze lijst\, kan u een motivatiebrief schrijven naar louvanie@hotmail.com. De trainer zal dan oordelen of deze cursus voor u geschikt is of advies geven voor een andere opleiding. \n\n\n\nDocent Louis Van Nieuland\n\n\n\nLouis Van Nieuland is de oprichter van praktijk Louvanie. \n\n\n\nNaast zijn para-medische opleiding en ruime leidinggevende ervaring binnen de non-profit sector is hij een enthousiaste coach-trainer –docent. Zijn kennis van stressmanagement\, bemiddeling\, conflicthantering en vooral het onbevooroordeeld actief luisteren\, vormen de hoekstenen van de praktijk. \n\n\n\nDe Louvanie-praktijk bestaat sinds 2010.Uit de samenwerking met artsen en paramedici ontstaat uiteindelijk het stressmanagementcentrum Revida in 2014 in AZ Rivierenland. \n\n\n\nDoor het doceren van hartcoherentie aan professionals creëert hij een kwalitatief netwerk van hartcoherentie-coaches in Vlaanderen (zie www.nerva.coach) \n\n\n\n\nDetails programma & boekingen
URL:https://nerva.coach/opleiding/4-daagse-opleiding-hartcoherentie-coach-voorjaar-2026-locatie-willebroek-2/
LOCATION:De Onderstroom\, Overwinningstraat 133\, Willebroek\, Antwerpen\, 2830\, België
CATEGORIES:HCH Opleiding
ORGANIZER;CN="De onderstroom":MAILTO:louvanie@hotmail.com
END:VEVENT
END:VCALENDAR